BEGIN:VCALENDAR
VERSION:2.0
PRODID:-//PRWireNOW - ECPv6.15.20//NONSGML v1.0//EN
CALSCALE:GREGORIAN
METHOD:PUBLISH
X-ORIGINAL-URL:https://prwirenow.com
X-WR-CALDESC:Events for PRWireNOW
REFRESH-INTERVAL;VALUE=DURATION:PT1H
X-Robots-Tag:noindex
X-PUBLISHED-TTL:PT1H
BEGIN:VTIMEZONE
TZID:UTC
BEGIN:STANDARD
TZOFFSETFROM:+0000
TZOFFSETTO:+0000
TZNAME:UTC
DTSTART:20250101T000000
END:STANDARD
END:VTIMEZONE
BEGIN:VEVENT
DTSTART;TZID=UTC:20260205T080000
DTEND;TZID=UTC:20260205T170000
DTSTAMP:20260425T193633
CREATED:20260105T092951Z
LAST-MODIFIED:20260105T093035Z
UID:33070-1770278400-1770310800@prwirenow.com
SUMMARY:How To Create a Passive Income Online
DESCRIPTION:Overview\n\n\n\n\n\nLearn the secrets of making money while you sleep in this interactive workshop on generating passive income online.\n\n\n\nHow To Create a Passive Income Online (Step By Step Workshop) (Limited Spots!) \nHave you ever thought about creating a passive income online but didn’t know where to begin? The truth is\, many people miss out on incredible opportunities because they lack the right tools and knowledge. But what if you could unlock the key to building a passive income using AI and ChatGPT – and start earning TODAY? \nREGISTER HERE \nJoin our exclusive LIVE webinar\, How To Create a Passive Income Online (Step By Step Workshop)\, where we’ll walk you through the exact strategies to leverage A.I. for building a profitable\, passive online business – no experience or technical skills required. \nHere’s why this webinar is perfect for you: \nStart Earning with A.I. NOW: Learn how to quickly monetize the A.I. opportunity and start generating income today before it’s too late. \nExclusive 1% Knowledge: Gain insider strategies that only the top 1% of successful entrepreneurs use to profit from A.I. and ChatGPT. \nGenerate Leads\, Sales\, & Automate: Discover how to use A.I. to generate leads\, boost sales\, and fully automate your business – all while you sleep. \nBeginner-Friendly: No coding\, no technical expertise\, and no prior experience needed! This workshop is designed for beginners with easy-to-follow methods. \nProven Success Blueprint: We’ll guide you through every step of the process to create a sustainable\, passive income online.Seats are extremely limited! Only 30 attendees will get the exclusive chance to join this live workshop and discover how to create a passive income online using A.I. and ChatGPT. \nREGISTER HERE
URL:https://prwirenow.com/event/how-to-create-a-passive-income-online/
LOCATION:Online Event
CATEGORIES:Business
ATTACH;FMTTYPE=image/jpeg:https://prwirenow.com/wp-content/uploads/2026/01/PRW-FEB-1.jpg
END:VEVENT
BEGIN:VEVENT
DTSTART;TZID=UTC:20260204T210000
DTEND;TZID=UTC:20260206T020000
DTSTAMP:20260425T193633
CREATED:20260105T103120Z
LAST-MODIFIED:20260105T103437Z
UID:33084-1770238800-1770343200@prwirenow.com
SUMMARY:EEE Miami 2026 – Ecommerce Conference at The Ritz-Carlton\, Key Biscayne
DESCRIPTION:Overview\n\n\n\n\n\nJoin the brightest minds in ecommerce for a day of innovation\, strategy\, and tech at EEE! Keynotes\, engaging panels\, DTC & B2B brands!\n\n\n\n\n\n\n\nAbout EEE\n\n\n\n\nEcommerce Experience Evolution is a unique conference that brings together the brightest minds in Ecommerce for a day of cutting-edge insights on digital innovation\, strategy\, and technology. We will have dynamic keynotes\, engaging panels\, and real-world case studies from leading direct-to-consumer (DTC) companies and industry-disrupting platforms. \n\n\n\n\n\n\n\n\n\n\n\nJoin tech leaders and top ecommerce brands at our full-day event in Miami – the ultimate digital commerce experience! \nMore info at eeemiami.com \n  \n\n\n\n\n\n\n\n\n\n\n\n\n\n\n\n\n\n\nDon’t miss the ultimate digital commerce experience! Connect with tech visionaries and leading ecommerce brands at our action-packed\, full-day event in Miami.\nMore info at eeemiami.com
URL:https://prwirenow.com/event/eee-miami-2026-ecommerce-conference-at-the-ritz-carlton-key-biscayne/
LOCATION:The Ritz-Carlton
CATEGORIES:Business
ATTACH;FMTTYPE=image/jpeg:https://prwirenow.com/wp-content/uploads/2026/01/PRW-FEB-4.jpg
END:VEVENT
BEGIN:VEVENT
DTSTART;TZID=UTC:20260202T233000
DTEND;TZID=UTC:20260203T020000
DTSTAMP:20260425T193633
CREATED:20260105T102331Z
LAST-MODIFIED:20260105T102505Z
UID:33078-1770075000-1770084000@prwirenow.com
SUMMARY:New York Trading\, Finance And Banking – Professional Networking Affair
DESCRIPTION:Overview \n\n\n\n\nNew York Trading\, Finance & Banking – Professional Networking Affair\n\n\n\nMAKE SURE TO RSVP. \n  \nJoin for Spring New York Finance\, Trading & Banking Professional Networking Soiree. \nMeet the diverse mix of finance professionals from different/various career levels \n  \nIts will be all about \n**WALL STREET – MARKETS – DEALS** \n  \nWe will have a restricted area for our members only. Cash bar\, pay for what you order. \n  \nAttendees include but not limited to: \n  \n• Portfolio Managers \n  \n• M & A Analysts \n  \n• Research Analysts (Buy / Sell Side) \n  \n• MBA Candidates \n  \n• Hedge Fund Service Providers \n  \n• Equity And Derivative Traders \n  \n• Prime Brokerage Professionals \n  \n• Fund Administration Professionals \n  \n• Operational Specialists. \n  \n• Finance & Accounting Recruiters and HR Professionals. \n  \nAttire – \nWe always recommend to wear business casuals but not mandatory. \n  \n  \nHow it would work: · \n• Receive name tag upon arrival. Clearly mention your name and your area of work/interest. · \n• The host will guide you to the main area. · \n• Connect and network with other professionals in a relaxed yet focused environment. \n  \nThe event focus on creating long term professional relationship with experienced finance experts. \nThe networking event will help in building social capital among the members of finance community on an ongoing basis. \nMeetup takes place on a weekday right after work in a relaxed atmosphere conducive to making connections. \nMake sure to bring a lot of business cards. if you looking to move-up or move in carrying a copy of your resume is a good idea. \nGood chance to run into a HR Partner from a bank or hedge fund. \n  \nFor Sponsorship & Business Queries – Moveyourcareer@gmail.com \n  \nConnect With Us For Future Events \nLIKE US ON FB \nJOIN FB GROUP \n  \nwww.professionalunite.com
URL:https://prwirenow.com/event/new-york-trading-finance-and-banking-professional-networking-affair/
LOCATION:Dawson 39 Restaurant & Bar
CATEGORIES:Business
ATTACH;FMTTYPE=image/jpeg:https://prwirenow.com/wp-content/uploads/2026/01/PRW-FEB-3.jpg
END:VEVENT
BEGIN:VEVENT
DTSTART;TZID=UTC:20260201T160000
DTEND;TZID=UTC:20260202T020000
DTSTAMP:20260425T193633
CREATED:20260106T090506Z
LAST-MODIFIED:20260106T090740Z
UID:33102-1769961600-1769997600@prwirenow.com
SUMMARY:Black Owned Business Excellence Symposium
DESCRIPTION:Overview\n\n\n\n\n\nBOBE 2026: A powerhouse statewide symposium uniting Black entrepreneurs for growth\, capital\, innovation\, and legacy-building. Join us!\n\n\n\nPOWER MOVES: BEYOND BOUNDARIES — FROM VISION TO LEGACY\nSunday\, February 1\, 2026 | Washington State \nThe 7th Annual Black-Owned Business Excellence (BOBE) Symposium is BACK — bigger\, bolder\, and laser-focused on leveling up Washington’s Black entrepreneurial ecosystem. Each year\, this one-of-a-kind statewide gathering brings together founders\, leaders\, innovators\, doers\, dreamers\, and legacy builders who are serious about growth. \nFor 2026\, Power Moves: Beyond Boundaries celebrates the Black entrepreneurs who are pushing past limits\, building generational wealth\, and shaping the future of business across Washington State. \nJoin hundreds of entrepreneurs\, business professionals\, ecosystem partners\, lenders\, investors\, and community champions for a full day of: \n✨ Game-changing sessions led by industry experts\n✨ Panels + keynotes from trailblazing leaders\n✨ Capital\, contracting\, and scaling resources\n✨ Hands-on workshops aligned with BOBE’s four tracks:\n• Scale & Sustain\n• Capital & Capacity\n• Innovation & Digital Evolution\n• Leadership & Legacy\n✨ A statewide marketplace of Black-owned vendors\n✨ Networking that turns conversations into opportunities\n✨ Celebrations of excellence\, including People’s Choice recognitions and more \nWith over 239 nominations submitted this year and unprecedented momentum behind Washington’s Black business community\, BOBE 2026 is on track to be our most powerful symposium yet. \nWhether you’re launching\, growing\, scaling\, rebuilding\, or reimagining your business — this is the room. This is the energy. This is the ecosystem that lifts as it climbs. \nSecure your seat. Bring your brilliance. Build your legacy.
URL:https://prwirenow.com/event/black-owned-business-excellence-symposium/
LOCATION:Seattle Public Library – Central Library
CATEGORIES:Business
ATTACH;FMTTYPE=image/jpeg:https://prwirenow.com/wp-content/uploads/2026/01/PRW-Feb-6.jpg
END:VEVENT
BEGIN:VEVENT
DTSTART;TZID=UTC:20260131T130000
DTEND;TZID=UTC:20260131T230000
DTSTAMP:20260425T193633
CREATED:20251213T095616Z
LAST-MODIFIED:20251213T095616Z
UID:32850-1769864400-1769900400@prwirenow.com
SUMMARY:32nd Annual Venture Capital & Private Equity Conference at HBS
DESCRIPTION:Overview\n\n\n\n\n\nWe are pleased to invite you to the 32nd Annual VCPE Conference\, a student club conference at Harvard Business School.\n\n\n\nThe Venture Capital & Private Equity Club\, a student club at Harvard Business School\, will hold its 32nd Annual Venture Capital & Private Equity Conference on January 31\, 2026 at the Harvard Business School campus in Boston. There will also be an exclusive pre-conference VIP Dinner at the Harvard Club of Boston on Friday\, January 30\, 2026 for sponsors and speakers. \nOne of Harvard Business School’s most anticipated student-run conferences\, the VCPE Conference has brought together 1\,000+ venture capital and private equity professionals\, academics\, and students to engage in educational discourse and thought leadership around the most prominent issues in today’s alternative investing space. This year’s keynote speakers include Josh Kushner\, Founder and CEO of Thrive Capital; Verdun Perry\, Senior Managing Director at Blackstone; Craig Packer\, Co-President and Head of Credit at Blue Owl Capital; Mar Hershenson\, Founder and Managing Partner at Pear VC; and Kim Lew\, President and CEO of Columbia Investment Management Company. \nWith a wide range of panels this year\, there is sure to be something that interests you: \n\nState of Private Equity\nState of Venture Capital\nReal Estate\nInfrastructure & Energy Transition\nPrivate Credit\nDistressed Debt & Special Situations\nAlternatives in Alternatives\nAI in VC\nAI in PE\nHealthcare & Life Sciences\nCrypto & FinTech\nConsumer\nIndustrials & Defense Tech\nThe LP Perspective\nEmerging Markets\nLaunching Your First Fund\nPortfolio Operations\nRecruiting in Private Equity\nRecruiting in Venture Capital & Growth\nCorporate Venture Capital\n\nAdmission includes breakfast and lunch on the day and cocktail reception after the conference to network with panelists and other attendees. \nPlease visit http://thevcpeconference.com/ for more details on the event\, and follow us on Instagram at @vcpeconferencehbs. \nDress code: Business Casual \nWe will be checking student / faculty IDs at the conference entrance\, so please make sure to buy the right type of ticket!
URL:https://prwirenow.com/event/32nd-annual-venture-capital-private-equity-conference-at-hbs/
LOCATION:Harvard Business School
CATEGORIES:Business
ATTACH;FMTTYPE=image/jpeg:https://prwirenow.com/wp-content/uploads/2025/12/PRW-13.jpg
ORGANIZER;CN="Venture Capital & Private Equity Club at HBS":MAILTO:executive_education@hbs.edu
END:VEVENT
BEGIN:VEVENT
DTSTART;TZID=UTC:20260129T180000
DTEND;TZID=UTC:20260129T190000
DTSTAMP:20260425T193633
CREATED:20251217T103212Z
LAST-MODIFIED:20251217T103212Z
UID:32926-1769709600-1769713200@prwirenow.com
SUMMARY:Ai Tech Mixer Houston
DESCRIPTION:Come hang out with tech professionals in Houston\, make connections\, and have a great time at our Houston Tech Networking Mixer!\n\n\n\nJOIN US FOR THE BEST NETWORKING IN HOUSTON \nAs seen in Entrepreneur Magazine. \nWe’re Houston’s premier tech networking event with one of the largest membership groups in Houston and growing every month! Don’t miss this opportunity to meet your next big business connection! \nJoin us for a healthy dose of startup and tech networking in Houston. \n\nMeet your next client\nFind your next job\nEat some snacks and have a few drinks\nStart a conversation with a new cofounder\nFind new friends that share common interests\nGet some great advice from our founder\n\nJOIN US FROM 6:00 – 9:00PM \n\nDRINKS*\nAMAZING COMPANY\nTOP COMPANIES\nTOP TALENT\n\nCOMPANIES OFTEN IN ATTENDANCE (… just to name a few) \nGoogle • Sony • Electronic Arts • Hulu • The Honest Company • Disney • Apple • Activision • Live Nation • Dollar Shave Club • Facebook • Snapchat • Trunk Club • ZipRecruiter • Experian • DreamWorks • HBO • Edmunds.com • Buzzfeed • NBCUniversal • YouTube • BeachBody • Playstation • Amazon • SpaceX • Bird • Vice Media • Netflix • GumGum \nLA Tech is the fastest growing networking group in Los Angeles focusing on tech\, startups and entrepreneurship. Professional Networking Events\, Panel Discussions. \nThe pandemic was tough on us all but now IRL events are back. \nHouston represents Texas startup elite\, aspiring entrepreneurs\, successful startup founders and venture capital in the Houston area. Our core goal is to connect people through IRL networking events\, online networking events and large summits. \nEnjoy Houston’s most successful Startup & Tech Mixer. Mingle with highly successful Men & Women in the Startup\, TECH & Entrepreneurial space. Enjoy an amazing night with some of the best in the business! \nOur events are comprised of the most influential professionals in the area. Our purpose is to help our members forge strong\, lasting relationships within the Silicon Beach community – combining Fortune 500/1000s with Entrepreneurs and Startups. We creating unique opportunities & connections to help you grow your business and network. \nNo Refunds\, Substitutions or Exchanges\, Venue open to change at organizer discretion
URL:https://prwirenow.com/event/ai-tech-mixer-houston/
LOCATION:SOHO Garden HTX
CATEGORIES:Business
ATTACH;FMTTYPE=image/jpeg:https://prwirenow.com/wp-content/uploads/2025/12/PRW-18.jpg
END:VEVENT
BEGIN:VEVENT
DTSTART;TZID=UTC:20260127T203000
DTEND;TZID=UTC:20260128T010000
DTSTAMP:20260425T193633
CREATED:20251213T094913Z
LAST-MODIFIED:20251213T094937Z
UID:32844-1769545800-1769562000@prwirenow.com
SUMMARY:Greater Atlanta Business Expo
DESCRIPTION:Overview\n\n\n\n\n\nAtlanta’s Largest Independent business expo. Our 20th Expo. Featuring Large\, Medium\, and small businesses\, whether Local or national\n\n\n\nJANUARY 27\, 2026 The Auditorium1032 S. Marietta PkwyMarietta\, GA 300603:30pm – 8:00pm\nPARTIAL TICKET PROCEEDS GO TO OURSUPPORTING CHARITYTUNNEL TO TOWERS \nTickets include food from caterers and soft drinks \nWhat better opportunity than to participate in an Expo \nwhich is the area’s largest business event. \nThe Expo consistently attracts over 1\,000 \nprofessionals who walk the trade show floor \nFor Exhibitor Info Call 404-447-7001
URL:https://prwirenow.com/event/greater-atlanta-business-expo/
LOCATION:The Auditorium
CATEGORIES:Business
ATTACH;FMTTYPE=image/jpeg:https://prwirenow.com/wp-content/uploads/2025/12/PRW-12.jpg
END:VEVENT
END:VCALENDAR